BEGIN:VCALENDAR
VERSION:2.0
PRODID:-//Region 2 North - ECPv6.15.20//NONSGML v1.0//EN
CALSCALE:GREGORIAN
METHOD:PUBLISH
X-WR-CALNAME:Region 2 North
X-ORIGINAL-URL:https://region2north.com
X-WR-CALDESC:Events for Region 2 North
REFRESH-INTERVAL;VALUE=DURATION:PT1H
X-Robots-Tag:noindex
X-PUBLISHED-TTL:PT1H
BEGIN:VTIMEZONE
TZID:America/Detroit
BEGIN:DAYLIGHT
TZOFFSETFROM:-0500
TZOFFSETTO:-0400
TZNAME:EDT
DTSTART:20220313T070000
END:DAYLIGHT
BEGIN:STANDARD
TZOFFSETFROM:-0400
TZOFFSETTO:-0500
TZNAME:EST
DTSTART:20221106T060000
END:STANDARD
BEGIN:DAYLIGHT
TZOFFSETFROM:-0500
TZOFFSETTO:-0400
TZNAME:EDT
DTSTART:20230312T070000
END:DAYLIGHT
BEGIN:STANDARD
TZOFFSETFROM:-0400
TZOFFSETTO:-0500
TZNAME:EST
DTSTART:20231105T060000
END:STANDARD
BEGIN:DAYLIGHT
TZOFFSETFROM:-0500
TZOFFSETTO:-0400
TZNAME:EDT
DTSTART:20240310T070000
END:DAYLIGHT
BEGIN:STANDARD
TZOFFSETFROM:-0400
TZOFFSETTO:-0500
TZNAME:EST
DTSTART:20241103T060000
END:STANDARD
END:VTIMEZONE
BEGIN:VEVENT
DTSTART;TZID=America/Detroit:20230504T080000
DTEND;TZID=America/Detroit:20230504T110000
DTSTAMP:20260421T222315
CREATED:20230329T123507Z
LAST-MODIFIED:20230329T123507Z
UID:7578-1683187200-1683198000@region2north.com
SUMMARY:R2N Communications Exercise
DESCRIPTION:Monthly R2N communications functional exercise for hospitals and other partners for MIHAN response\, EMResource Updates\, and 800 MHz Radio response (for those with R2N radio)
URL:https://region2north.com/event/r2n-communications-exercise-19/
END:VEVENT
BEGIN:VEVENT
DTSTART;TZID=America/Detroit:20230505T090000
DTEND;TZID=America/Detroit:20230505T103000
DTSTAMP:20260421T222315
CREATED:20230329T123809Z
LAST-MODIFIED:20230329T123809Z
UID:7580-1683277200-1683282600@region2north.com
SUMMARY:R2N Hospital Committee Meeting
DESCRIPTION:Meeting for members of the R2N Hospital Committee
URL:https://region2north.com/event/r2n-hospital-committee-meeting-43/
END:VEVENT
BEGIN:VEVENT
DTSTART;TZID=America/Detroit:20230505T130000
DTEND;TZID=America/Detroit:20230505T133000
DTSTAMP:20260421T222315
CREATED:20230502T124411Z
LAST-MODIFIED:20230502T124411Z
UID:7618-1683291600-1683293400@region2north.com
SUMMARY:R2N Dialysis Workgroup First Meeting
DESCRIPTION:Virtual meeting for members for the newly formed R2N Dialysis Workgroup.  If you are interested in joining the workgroup\, please contact Rick Drummer at rdrummer@region2north.com.
URL:https://region2north.com/event/r2n-dialysis-workgroup-first-meeting/
END:VEVENT
BEGIN:VEVENT
DTSTART;TZID=America/Detroit:20230509T130000
DTEND;TZID=America/Detroit:20230509T170000
DTSTAMP:20260421T222315
CREATED:20230329T124004Z
LAST-MODIFIED:20230329T124004Z
UID:7582-1683637200-1683651600@region2north.com
SUMMARY:Great Lakes Homeland Security Conference
DESCRIPTION:Great Lakes Homeland Security Conference in Grand Rapids
URL:https://region2north.com/event/great-lakes-homeland-security-conference-8/
END:VEVENT
BEGIN:VEVENT
DTSTART;TZID=America/Detroit:20230510T080000
DTEND;TZID=America/Detroit:20230510T170000
DTSTAMP:20260421T222315
CREATED:20230329T124048Z
LAST-MODIFIED:20230329T124048Z
UID:7584-1683705600-1683738000@region2north.com
SUMMARY:Great Lakes Homeland Security Conference
DESCRIPTION:Day two of Great Lakes Homeland Security Conference
URL:https://region2north.com/event/great-lakes-homeland-security-conference-9/
END:VEVENT
BEGIN:VEVENT
DTSTART;TZID=America/Detroit:20230510T083000
DTEND;TZID=America/Detroit:20230510T090000
DTSTAMP:20260421T222315
CREATED:20230414T121548Z
LAST-MODIFIED:20230414T121548Z
UID:7606-1683707400-1683709200@region2north.com
SUMMARY:R2N Operational Planning Committee Meeting Canceled
DESCRIPTION:The normal R2N Operational Planning Committee Meeting is canceled due to the Great Lakes Homeland Security Conference conflict
URL:https://region2north.com/event/r2n-operational-planning-committee-meeting-canceled/
END:VEVENT
BEGIN:VEVENT
DTSTART;TZID=America/Detroit:20230510T093000
DTEND;TZID=America/Detroit:20230510T110000
DTSTAMP:20260421T222315
CREATED:20230414T121715Z
LAST-MODIFIED:20230414T121715Z
UID:7608-1683711000-1683716400@region2north.com
SUMMARY:R2N Advisory / Planning Board Meeting Canceled
DESCRIPTION:The R2N Advisory / Planning Board Meeting is canceled due to conflicts with the Great Lakes Homeland Security Conference
URL:https://region2north.com/event/r2n-advisory-planning-board-meeting-canceled/
END:VEVENT
BEGIN:VEVENT
DTSTART;TZID=America/Detroit:20230510T130000
DTEND;TZID=America/Detroit:20230510T130000
DTSTAMP:20260421T222315
CREATED:20230509T130655Z
LAST-MODIFIED:20230509T130655Z
UID:7629-1683723600-1683723600@region2north.com
SUMMARY:Public Health Emergency Preparedness Connects Webinar
DESCRIPTION:Public Health Emergency Preparedness (PHEP) Connects Webinar Highlights Pediatric Preparedness – May 10\, 2023\nCDC presenter Kevin Chatham-Stephens\, who leads CDC’s Children’s Preparedness Unit\, will discuss the link between public health planners and pediatricians in addressing the special needs of children in disasters. The unique needs and characteristics of children make it important to identify and incorporate special considerations into preparedness\, mitigation\, response\, recovery\, and resilience-building plans and actions. This webinar occurs on May 10\, 2023 from 1:00-2:00 p.m. Connection to the webinar here
URL:https://region2north.com/event/public-health-emergency-preparedness-connects-webinar/
LOCATION:Virtual Meeting
END:VEVENT
BEGIN:VEVENT
DTSTART;TZID=America/Detroit:20230511T080000
DTEND;TZID=America/Detroit:20230511T120000
DTSTAMP:20260421T222315
CREATED:20230329T124131Z
LAST-MODIFIED:20230329T124131Z
UID:7586-1683792000-1683806400@region2north.com
SUMMARY:Great Lakes Homeland Security Conference
DESCRIPTION:Day three of Great Lakes Homeland Security Conference
URL:https://region2north.com/event/great-lakes-homeland-security-conference-10/
END:VEVENT
BEGIN:VEVENT
DTSTART;TZID=America/Detroit:20230516T120000
DTEND;TZID=America/Detroit:20230516T130000
DTSTAMP:20260421T222315
CREATED:20221221T132526Z
LAST-MODIFIED:20221221T132526Z
UID:7471-1684238400-1684242000@region2north.com
SUMMARY:Back to the Basics Healthcare Emergency Manager Training
DESCRIPTION:See the attached flyer for the back to the basics webinar training on the Overview of Crisis Standards of Care \nBack to the Basics Flyer
URL:https://region2north.com/event/back-to-the-basics-healthcare-emergency-manager-training-4/
END:VEVENT
BEGIN:VEVENT
DTSTART;TZID=America/Detroit:20230516T150000
DTEND;TZID=America/Detroit:20230516T163000
DTSTAMP:20260421T222315
CREATED:20230131T134438Z
LAST-MODIFIED:20230502T124223Z
UID:7524-1684249200-1684254600@region2north.com
SUMMARY:Medical Supply Chain Virtual Series
DESCRIPTION:Supply Chain Webinar — May 16\, 2023\nThe next Supply Chain webinar is scheduled for May 16\, 2023\, from 3:00 p.m. to 4:30 p.m. The session will focus on pharmaceuticals (“Drug Shortages-Managing Supply Chain Challenges” and Long-Term Care (“SNF: Supply Chain”). Future topics include EMS\, Food and Nutrition in the hospital\, an independent hospital perspective and more. Please sign up for all or part of the series here: https://www.train.org/main/course/1108310/compilation.  \nMedical Supply Chain Virtual Series (Gould) 011022 (1)
URL:https://region2north.com/event/medical-supply-chain-virtual-series-3/
END:VEVENT
BEGIN:VEVENT
DTSTART;TZID=America/Detroit:20230517T143000
DTEND;TZID=America/Detroit:20230517T153000
DTSTAMP:20260421T222315
CREATED:20230509T110517Z
LAST-MODIFIED:20230509T110517Z
UID:7622-1684333800-1684337400@region2north.com
SUMMARY:EMResource Hospital Office Hours
DESCRIPTION:Office hours \nHospital Office Hours Link \nMay 17th 2:30-3:30
URL:https://region2north.com/event/emresource-hospital-office-hours-5/
END:VEVENT
END:VCALENDAR