BEGIN:VCALENDAR
VERSION:2.0
PRODID:-//Region 2 North - ECPv6.15.20//NONSGML v1.0//EN
CALSCALE:GREGORIAN
METHOD:PUBLISH
X-WR-CALNAME:Region 2 North
X-ORIGINAL-URL:https://region2north.com
X-WR-CALDESC:Events for Region 2 North
REFRESH-INTERVAL;VALUE=DURATION:PT1H
X-Robots-Tag:noindex
X-PUBLISHED-TTL:PT1H
BEGIN:VTIMEZONE
TZID:America/Detroit
BEGIN:DAYLIGHT
TZOFFSETFROM:-0500
TZOFFSETTO:-0400
TZNAME:EDT
DTSTART:20220313T070000
END:DAYLIGHT
BEGIN:STANDARD
TZOFFSETFROM:-0400
TZOFFSETTO:-0500
TZNAME:EST
DTSTART:20221106T060000
END:STANDARD
BEGIN:DAYLIGHT
TZOFFSETFROM:-0500
TZOFFSETTO:-0400
TZNAME:EDT
DTSTART:20230312T070000
END:DAYLIGHT
BEGIN:STANDARD
TZOFFSETFROM:-0400
TZOFFSETTO:-0500
TZNAME:EST
DTSTART:20231105T060000
END:STANDARD
BEGIN:DAYLIGHT
TZOFFSETFROM:-0500
TZOFFSETTO:-0400
TZNAME:EDT
DTSTART:20240310T070000
END:DAYLIGHT
BEGIN:STANDARD
TZOFFSETFROM:-0400
TZOFFSETTO:-0500
TZNAME:EST
DTSTART:20241103T060000
END:STANDARD
END:VTIMEZONE
BEGIN:VEVENT
DTSTART;TZID=America/Detroit:20230405T143000
DTEND;TZID=America/Detroit:20230405T153000
DTSTAMP:20260421T150941
CREATED:20230404T122710Z
LAST-MODIFIED:20230404T122710Z
UID:7589-1680705000-1680708600@region2north.com
SUMMARY:EMResource Hospital Office Hours
DESCRIPTION:Reminder EMResource Hospital Office Hours are Wednesday\, April 5\, 2023\, from 2:30 PM to 3:30 PM via Teams Meeting. \n\nJoin Microsoft Teams Meeting \n+1 248-509-0316   United States\, Pontiac (Toll) \nConference ID: 515 330 088# \n\nSend questions ahead of time to the EMResource Data Team at MDHHS-CHECC-EMResource@michigan.gov.
URL:https://region2north.com/event/emresource-hospital-office-hours-4/
END:VEVENT
BEGIN:VEVENT
DTSTART;TZID=America/Detroit:20230406T080000
DTEND;TZID=America/Detroit:20230406T110000
DTSTAMP:20260421T150941
CREATED:20230315T113826Z
LAST-MODIFIED:20230315T113826Z
UID:7564-1680768000-1680778800@region2north.com
SUMMARY:R2N Communications Exercise
DESCRIPTION:R2N monthly exercise of the MIHAN\, EMResource\, and 800 MHz radios for those organizations that have one
URL:https://region2north.com/event/r2n-communications-exercise-18/
END:VEVENT
BEGIN:VEVENT
DTSTART;TZID=America/Detroit:20230407T090000
DTEND;TZID=America/Detroit:20230407T100000
DTSTAMP:20260421T150941
CREATED:20230315T113409Z
LAST-MODIFIED:20230315T113409Z
UID:7558-1680858000-1680861600@region2north.com
SUMMARY:R2N Hospital Meeting Canceled
DESCRIPTION:The monthly R2N Hospital Committee meeting is canceled for April.
URL:https://region2north.com/event/r2n-hospital-meeting-canceled/
END:VEVENT
BEGIN:VEVENT
DTSTART;TZID=America/Detroit:20230411T123000
DTEND;TZID=America/Detroit:20230411T140000
DTSTAMP:20260421T150941
CREATED:20230329T122443Z
LAST-MODIFIED:20230329T122443Z
UID:7569-1681216200-1681221600@region2north.com
SUMMARY:R2N Education Committee Meeting
DESCRIPTION:Meeting for members of the R2N Education Committee – different time this month
URL:https://region2north.com/event/r2n-education-committee-meeting-41/
LOCATION:Macomb County Medical Control Authority
END:VEVENT
BEGIN:VEVENT
DTSTART;TZID=America/Detroit:20230411T130000
DTEND;TZID=America/Detroit:20230411T170000
DTSTAMP:20260421T150941
CREATED:20230329T122923Z
LAST-MODIFIED:20230329T122923Z
UID:7574-1681218000-1681232400@region2north.com
SUMMARY:Special Pathogens Response Network Virtual Conference
DESCRIPTION:See attached document for agenda and registration information \nSPRN Conference Flier 3-21-23
URL:https://region2north.com/event/special-pathogens-response-network-virtual-conference/
END:VEVENT
BEGIN:VEVENT
DTSTART;TZID=America/Detroit:20230412T093000
DTEND;TZID=America/Detroit:20230412T110000
DTSTAMP:20260421T150941
CREATED:20230315T113626Z
LAST-MODIFIED:20230315T113626Z
UID:7562-1681291800-1681297200@region2north.com
SUMMARY:R2N Advisory / Planning Board Meeting
DESCRIPTION:Meeting for members of the R2N Advisory / Planning Committee
URL:https://region2north.com/event/r2n-advisory-planning-board-meeting-30/
LOCATION:Sterling Heights Fire Department\, 41625 Ryan Road\, Sterling Heights\, Michigan\, 48314
END:VEVENT
BEGIN:VEVENT
DTSTART;TZID=America/Detroit:20230418T120000
DTEND;TZID=America/Detroit:20230418T130000
DTSTAMP:20260421T150941
CREATED:20221221T132410Z
LAST-MODIFIED:20221221T132410Z
UID:7469-1681819200-1681822800@region2north.com
SUMMARY:Back to the Basics Healthcare Emergency Manager Training
DESCRIPTION:See the attached flyer on the back to the basics for After Action Reports webinar training \nBack to the Basics Flyer
URL:https://region2north.com/event/back-to-the-basics-healthcare-emergency-manager-training-3/
END:VEVENT
BEGIN:VEVENT
DTSTART;TZID=America/Detroit:20230418T150000
DTEND;TZID=America/Detroit:20230418T163000
DTSTAMP:20260421T150941
CREATED:20230131T134350Z
LAST-MODIFIED:20230131T134350Z
UID:7522-1681830000-1681835400@region2north.com
SUMMARY:Medical Supply Chain Virtual Series
DESCRIPTION:Medical Supply Chain Virtual Series (Gould) 011022 (1)
URL:https://region2north.com/event/medical-supply-chain-virtual-series-2/
END:VEVENT
BEGIN:VEVENT
DTSTART;TZID=America/Detroit:20230425T140000
DTEND;TZID=America/Detroit:20230425T150000
DTSTAMP:20260421T150941
CREATED:20230425T112859Z
LAST-MODIFIED:20230425T112859Z
UID:7612-1682431200-1682434800@region2north.com
SUMMARY:Hospital ED Pediatric Champion Office Hours
DESCRIPTION:Hospital ED Pediatric Champion Office Hours — April 25\, 2023 \nThe next hospital ED Pediatric Champion Office Hours is scheduled for Tuesday\, April 25\, 2023\, from 2:00-3:00 p.m. Please join as Stephanie L Griffin\, NP from E.W. Sparrow Hospital\, SMG Trauma Services will be speaking on pediatric trauma care. The Save the Date with call in information is attached below. \n2023.04.20 Stephanie Griffin – Final
URL:https://region2north.com/event/hospital-ed-pediatric-champion-office-hours-3/
LOCATION:Virtual Meeting
END:VEVENT
BEGIN:VEVENT
DTSTART;TZID=America/Detroit:20230427T100000
DTEND;TZID=America/Detroit:20230427T140000
DTSTAMP:20260421T150941
CREATED:20230329T123235Z
LAST-MODIFIED:20230329T123235Z
UID:7576-1682589600-1682604000@region2north.com
SUMMARY:MI-MORT Command Staff Meeting
DESCRIPTION:Meeting for members of the MI-MORT Command Staff.  Special volunteer engagement session from 12:00 PM to 1:00 PM
URL:https://region2north.com/event/mi-mort-command-staff-meeting-11/
LOCATION:Michigan Funeral Directors Association Office\, 2420 Science Pkwy\, Okemos\, MI\, 48864\, United States
END:VEVENT
END:VCALENDAR