BEGIN:VCALENDAR
VERSION:2.0
PRODID:-//Region 2 North - ECPv6.15.20//NONSGML v1.0//EN
CALSCALE:GREGORIAN
METHOD:PUBLISH
X-WR-CALNAME:Region 2 North
X-ORIGINAL-URL:https://region2north.com
X-WR-CALDESC:Events for Region 2 North
REFRESH-INTERVAL;VALUE=DURATION:PT1H
X-Robots-Tag:noindex
X-PUBLISHED-TTL:PT1H
BEGIN:VTIMEZONE
TZID:America/Detroit
BEGIN:DAYLIGHT
TZOFFSETFROM:-0500
TZOFFSETTO:-0400
TZNAME:EDT
DTSTART:20190310T070000
END:DAYLIGHT
BEGIN:STANDARD
TZOFFSETFROM:-0400
TZOFFSETTO:-0500
TZNAME:EST
DTSTART:20191103T060000
END:STANDARD
BEGIN:DAYLIGHT
TZOFFSETFROM:-0500
TZOFFSETTO:-0400
TZNAME:EDT
DTSTART:20200308T070000
END:DAYLIGHT
BEGIN:STANDARD
TZOFFSETFROM:-0400
TZOFFSETTO:-0500
TZNAME:EST
DTSTART:20201101T060000
END:STANDARD
BEGIN:DAYLIGHT
TZOFFSETFROM:-0500
TZOFFSETTO:-0400
TZNAME:EDT
DTSTART:20210314T070000
END:DAYLIGHT
BEGIN:STANDARD
TZOFFSETFROM:-0400
TZOFFSETTO:-0500
TZNAME:EST
DTSTART:20211107T060000
END:STANDARD
END:VTIMEZONE
BEGIN:VEVENT
DTSTART;TZID=America/Detroit:20200904T090000
DTEND;TZID=America/Detroit:20200904T100000
DTSTAMP:20260421T043314
CREATED:20200817T115337Z
LAST-MODIFIED:20200817T115337Z
UID:5469-1599210000-1599213600@region2north.com
SUMMARY:R2N Hospital Committee Meeting
DESCRIPTION:Meeting for members of the R2N Hospital Committee
URL:https://region2north.com/event/r2n-hospital-committee-meeting-28/
LOCATION:Zoom meeting
END:VEVENT
BEGIN:VEVENT
DTSTART;VALUE=DATE:20200907
DTEND;VALUE=DATE:20200908
DTSTAMP:20260421T043314
CREATED:20200826T122819Z
LAST-MODIFIED:20200826T122819Z
UID:5500-1599436800-1599523199@region2north.com
SUMMARY:R2N Office Closed for Labor Day Celebration
DESCRIPTION:
URL:https://region2north.com/event/r2n-office-closed-for-labor-day-celebration/
END:VEVENT
BEGIN:VEVENT
DTSTART;TZID=America/Detroit:20200908T110000
DTEND;TZID=America/Detroit:20200908T113000
DTSTAMP:20260421T043314
CREATED:20200826T122448Z
LAST-MODIFIED:20200826T122448Z
UID:5496-1599562800-1599564600@region2north.com
SUMMARY:R2S Hospital Call
DESCRIPTION:R2S Hospital call with R2N Hospitals invited to participate.
URL:https://region2north.com/event/r2s-hospital-call-14/
END:VEVENT
BEGIN:VEVENT
DTSTART;TZID=America/Detroit:20200909T083000
DTEND;TZID=America/Detroit:20200909T090000
DTSTAMP:20260421T043314
CREATED:20200817T115809Z
LAST-MODIFIED:20200817T115809Z
UID:5474-1599640200-1599642000@region2north.com
SUMMARY:Operational Planning Committee Meeting
DESCRIPTION:Meeting for members of the R2N Operational Planning Committee
URL:https://region2north.com/event/operational-planning-committee-meeting-3/
LOCATION:Zoom meeting
END:VEVENT
BEGIN:VEVENT
DTSTART;TZID=America/Detroit:20200909T093000
DTEND;TZID=America/Detroit:20200909T103000
DTSTAMP:20260421T043314
CREATED:20200817T115904Z
LAST-MODIFIED:20200817T115904Z
UID:5476-1599643800-1599647400@region2north.com
SUMMARY:R2N Advisory / Planning Committee Meeting
DESCRIPTION:Meeting for members of the R2N Advisory / Planning Committee.
URL:https://region2north.com/event/r2n-advisory-planning-committee-meeting/
LOCATION:Zoom meeting
END:VEVENT
BEGIN:VEVENT
DTSTART;TZID=America/Detroit:20200910T094500
DTEND;TZID=America/Detroit:20200910T150000
DTSTAMP:20260421T043314
CREATED:20200817T115455Z
LAST-MODIFIED:20200817T115455Z
UID:5471-1599731100-1599750000@region2north.com
SUMMARY:The Darkest Winter in Modern History Pediatric Tabletop Exercise
DESCRIPTION:See flyer below for details. \nExercise Announcement
URL:https://region2north.com/event/the-darkest-winter-in-modern-history-pediatric-tabletop-exercise/
LOCATION:Zoom meeting
END:VEVENT
BEGIN:VEVENT
DTSTART;TZID=America/Detroit:20200911T090000
DTEND;TZID=America/Detroit:20200911T120000
DTSTAMP:20260421T043314
CREATED:20200826T123028Z
LAST-MODIFIED:20200826T123028Z
UID:5503-1599814800-1599825600@region2north.com
SUMMARY:Regional Leadership Meeting
DESCRIPTION:Meeting for all 8 Healthcare Coalitions with the State
URL:https://region2north.com/event/regional-leadership-meeting-12/
LOCATION:Teams Meeting
END:VEVENT
BEGIN:VEVENT
DTSTART;TZID=America/Detroit:20200912T100000
DTEND;TZID=America/Detroit:20200912T120000
DTSTAMP:20260421T043314
CREATED:20200311T111657Z
LAST-MODIFIED:20200311T111657Z
UID:5108-1599904800-1599912000@region2north.com
SUMMARY:American Red Cross Volunteer Meeting
DESCRIPTION:ALL Volunteer meetings at the American Red Cross held on the second Saturday of each month from 10am-12pm. Lunch is provided.
URL:https://region2north.com/event/american-red-cross-volunteer-meeting-6/
LOCATION:American Red Cross Office\, 7800 Outer Drive\, Detroit\, MI\, 48235
END:VEVENT
BEGIN:VEVENT
DTSTART;TZID=America/Detroit:20200916T143000
DTEND;TZID=America/Detroit:20200916T153000
DTSTAMP:20260421T043314
CREATED:20200911T154631Z
LAST-MODIFIED:20200911T154631Z
UID:5521-1600266600-1600270200@region2north.com
SUMMARY:Hospital EMResource Data Office Hours
DESCRIPTION:The Bureau of EMS\, Trauma and Prepardenss (BETP) Data Team will be hosting an EMResource Data Office Hours to provide technical support and answer questions regarding the HHS Hospital data in EMResource.  During the Office Hours\, the BETP Data Team will be available to answer Healthcare Coalition and Hospital user questions about hospital reporting into EMResource.  Please invite your hospital staff or hospital system staff that use or enter data into EMResource to attend as they are encouraged to participate. \niCal-20200911-123540
URL:https://region2north.com/event/hospital-emresource-data-office-hours/
LOCATION:Microsoft Teams
END:VEVENT
BEGIN:VEVENT
DTSTART;TZID=America/Detroit:20200917T080000
DTEND;TZID=America/Detroit:20200917T140000
DTSTAMP:20260421T043314
CREATED:20200826T123344Z
LAST-MODIFIED:20200826T123344Z
UID:5505-1600329600-1600351200@region2north.com
SUMMARY:Burn Surge Online Training
DESCRIPTION:Burn Center Burn Surge online training for Surge hospitals and EMS. \nSEPTEMBER 17\, 2020 REGISTRATION FORM
URL:https://region2north.com/event/burn-surge-online-training/
LOCATION:Online Training
END:VEVENT
BEGIN:VEVENT
DTSTART;TZID=America/Detroit:20200922T110000
DTEND;TZID=America/Detroit:20200922T113000
DTSTAMP:20260421T043314
CREATED:20200826T122530Z
LAST-MODIFIED:20200826T122530Z
UID:5498-1600772400-1600774200@region2north.com
SUMMARY:R2S Hospital Call
DESCRIPTION:R2S Hospital Call with R2N Hospitals invited to participate
URL:https://region2north.com/event/r2s-hospital-call-15/
END:VEVENT
END:VCALENDAR