BEGIN:VCALENDAR
VERSION:2.0
PRODID:-//Region 2 North - ECPv6.15.20//NONSGML v1.0//EN
CALSCALE:GREGORIAN
METHOD:PUBLISH
X-WR-CALNAME:Region 2 North
X-ORIGINAL-URL:https://region2north.com
X-WR-CALDESC:Events for Region 2 North
REFRESH-INTERVAL;VALUE=DURATION:PT1H
X-Robots-Tag:noindex
X-PUBLISHED-TTL:PT1H
BEGIN:VTIMEZONE
TZID:America/Detroit
BEGIN:DAYLIGHT
TZOFFSETFROM:-0500
TZOFFSETTO:-0400
TZNAME:EDT
DTSTART:20190310T070000
END:DAYLIGHT
BEGIN:STANDARD
TZOFFSETFROM:-0400
TZOFFSETTO:-0500
TZNAME:EST
DTSTART:20191103T060000
END:STANDARD
BEGIN:DAYLIGHT
TZOFFSETFROM:-0500
TZOFFSETTO:-0400
TZNAME:EDT
DTSTART:20200308T070000
END:DAYLIGHT
BEGIN:STANDARD
TZOFFSETFROM:-0400
TZOFFSETTO:-0500
TZNAME:EST
DTSTART:20201101T060000
END:STANDARD
BEGIN:DAYLIGHT
TZOFFSETFROM:-0500
TZOFFSETTO:-0400
TZNAME:EDT
DTSTART:20210314T070000
END:DAYLIGHT
BEGIN:STANDARD
TZOFFSETFROM:-0400
TZOFFSETTO:-0500
TZNAME:EST
DTSTART:20211107T060000
END:STANDARD
END:VTIMEZONE
BEGIN:VEVENT
DTSTART;TZID=America/Detroit:20200501T090000
DTEND;TZID=America/Detroit:20200501T094500
DTSTAMP:20260420T043718
CREATED:20200422T100619Z
LAST-MODIFIED:20200422T100619Z
UID:5231-1588323600-1588326300@region2north.com
SUMMARY:R2N Hospital Committee Meeting - Phone Call Only
DESCRIPTION:Meeting for the R2N Hospital Committee members.  Agenda will be sent out prior to the meeting
URL:https://region2north.com/event/r2n-hospital-committee-meeting-phone-call-only-2/
END:VEVENT
BEGIN:VEVENT
DTSTART;TZID=America/Detroit:20200507T093000
DTEND;TZID=America/Detroit:20200507T103000
DTSTAMP:20260420T043718
CREATED:20200429T112824Z
LAST-MODIFIED:20200429T112824Z
UID:5248-1588843800-1588847400@region2north.com
SUMMARY:R2N Long Term Care and Home Health and Hospice Weekly Phone Call
DESCRIPTION:
URL:https://region2north.com/event/r2n-long-term-care-and-home-health-and-hospice-weekly-phone-call/
END:VEVENT
BEGIN:VEVENT
DTSTART;TZID=America/Detroit:20200512T140000
DTEND;TZID=America/Detroit:20200512T150000
DTSTAMP:20260420T043718
CREATED:20200429T112431Z
LAST-MODIFIED:20200429T112431Z
UID:5241-1589292000-1589295600@region2north.com
SUMMARY:R2N Education Committee meeting
DESCRIPTION:Zoom meeting for the Education Committee members
URL:https://region2north.com/event/r2n-education-committee-meeting-31/
LOCATION:Zoom meeting
END:VEVENT
BEGIN:VEVENT
DTSTART;TZID=America/Detroit:20200513T093000
DTEND;TZID=America/Detroit:20200513T110000
DTSTAMP:20260420T043718
CREATED:20200429T112603Z
LAST-MODIFIED:20200429T112603Z
UID:5244-1589362200-1589367600@region2north.com
SUMMARY:R2N Advisory / Planning Board Meeting
DESCRIPTION:Zoom meeting for R2N Advisory and Planning Board members.
URL:https://region2north.com/event/r2n-advisory-planning-board-meeting-13/
LOCATION:Zoom meeting
END:VEVENT
BEGIN:VEVENT
DTSTART;TZID=America/Detroit:20200514T093000
DTEND;TZID=America/Detroit:20200514T103000
DTSTAMP:20260420T043718
CREATED:20200512T151445Z
LAST-MODIFIED:20200512T151445Z
UID:5251-1589448600-1589452200@region2north.com
SUMMARY:R2N Long Term Care and Home Health and Hospice Call
DESCRIPTION:Weekly COVID-19 R2N call
URL:https://region2north.com/event/r2n-long-term-care-and-home-health-and-hospice-call/
END:VEVENT
BEGIN:VEVENT
DTSTART;TZID=America/Detroit:20200521T093000
DTEND;TZID=America/Detroit:20200521T103000
DTSTAMP:20260420T043718
CREATED:20200520T131633Z
LAST-MODIFIED:20200520T131633Z
UID:5259-1590053400-1590057000@region2north.com
SUMMARY:R2N Long Term Care and Home Health and Hospice Meeting
DESCRIPTION:R2N weekly LTC and Home Health and Hospice COVID-19 meetin \n  \nConference Call: 678-302-3534 – Participant Code: 4852515 \nWebinar: http://breeze.mdch.train.org/region2n/ \n 
URL:https://region2north.com/event/r2n-long-term-care-and-home-health-and-hospice-meeting/
END:VEVENT
BEGIN:VEVENT
DTSTART;VALUE=DATE:20200525
DTEND;VALUE=DATE:20200526
DTSTAMP:20260420T043718
CREATED:20200520T131936Z
LAST-MODIFIED:20200520T131936Z
UID:5263-1590364800-1590451199@region2north.com
SUMMARY:Memorial Day - R2N Office closed - contact us via RMCC number if it is an emergency
DESCRIPTION:
URL:https://region2north.com/event/memorial-day-r2n-office-closed-contact-us-via-rmcc-number-if-it-is-an-emergency/
END:VEVENT
BEGIN:VEVENT
DTSTART;TZID=America/Detroit:20200527T103000
DTEND;TZID=America/Detroit:20200527T110000
DTSTAMP:20260420T043718
CREATED:20200527T121918Z
LAST-MODIFIED:20200527T121918Z
UID:5276-1590575400-1590577200@region2north.com
SUMMARY:R2S Hospital Call
DESCRIPTION:
URL:https://region2north.com/event/r2s-hospital-call/
END:VEVENT
BEGIN:VEVENT
DTSTART;TZID=America/Detroit:20200528T093000
DTEND;TZID=America/Detroit:20200528T103000
DTSTAMP:20260420T043718
CREATED:20200527T121548Z
LAST-MODIFIED:20200527T121548Z
UID:5270-1590658200-1590661800@region2north.com
SUMMARY:R2N Long Term Care and Home Health and Hospice phone call
DESCRIPTION:Contact Rachiel Clay if you need call in information by calling R2N office at 248-759-4748.
URL:https://region2north.com/event/r2n-long-term-care-and-home-health-and-hospice-phone-call/
END:VEVENT
BEGIN:VEVENT
DTSTART;TZID=America/Detroit:20200529T103000
DTEND;TZID=America/Detroit:20200529T110000
DTSTAMP:20260420T043718
CREATED:20200527T122008Z
LAST-MODIFIED:20200527T122008Z
UID:5279-1590748200-1590750000@region2north.com
SUMMARY:R2S Hospital Call
DESCRIPTION:
URL:https://region2north.com/event/r2s-hospital-call-2/
END:VEVENT
BEGIN:VEVENT
DTSTART;TZID=America/Detroit:20200529T110000
DTEND;TZID=America/Detroit:20200529T120000
DTSTAMP:20260420T043718
CREATED:20200527T122102Z
LAST-MODIFIED:20200527T122102Z
UID:5281-1590750000-1590753600@region2north.com
SUMMARY:Macomb  County MCA Zoom Meeting
DESCRIPTION:Meeting for EMS agencies in Macomb County
URL:https://region2north.com/event/macomb-county-mca-zoom-meeting/
LOCATION:Zoom meeting
END:VEVENT
BEGIN:VEVENT
DTSTART;TZID=America/Detroit:20200529T140000
DTEND;TZID=America/Detroit:20200529T150000
DTSTAMP:20260420T043718
CREATED:20200527T122236Z
LAST-MODIFIED:20200527T122236Z
UID:5288-1590760800-1590764400@region2north.com
SUMMARY:COVID-19 Response LHD call
DESCRIPTION:State call with Local Health Departments
URL:https://region2north.com/event/covid-19-response-lhd-call/
END:VEVENT
END:VCALENDAR