BEGIN:VCALENDAR
VERSION:2.0
PRODID:-//Region 2 North - ECPv6.15.20//NONSGML v1.0//EN
CALSCALE:GREGORIAN
METHOD:PUBLISH
X-WR-CALNAME:Region 2 North
X-ORIGINAL-URL:https://region2north.com
X-WR-CALDESC:Events for Region 2 North
REFRESH-INTERVAL;VALUE=DURATION:PT1H
X-Robots-Tag:noindex
X-PUBLISHED-TTL:PT1H
BEGIN:VTIMEZONE
TZID:America/Detroit
BEGIN:DAYLIGHT
TZOFFSETFROM:-0500
TZOFFSETTO:-0400
TZNAME:EDT
DTSTART:20190310T070000
END:DAYLIGHT
BEGIN:STANDARD
TZOFFSETFROM:-0400
TZOFFSETTO:-0500
TZNAME:EST
DTSTART:20191103T060000
END:STANDARD
BEGIN:DAYLIGHT
TZOFFSETFROM:-0500
TZOFFSETTO:-0400
TZNAME:EDT
DTSTART:20200308T070000
END:DAYLIGHT
BEGIN:STANDARD
TZOFFSETFROM:-0400
TZOFFSETTO:-0500
TZNAME:EST
DTSTART:20201101T060000
END:STANDARD
BEGIN:DAYLIGHT
TZOFFSETFROM:-0500
TZOFFSETTO:-0400
TZNAME:EDT
DTSTART:20210314T070000
END:DAYLIGHT
BEGIN:STANDARD
TZOFFSETFROM:-0400
TZOFFSETTO:-0500
TZNAME:EST
DTSTART:20211107T060000
END:STANDARD
END:VTIMEZONE
BEGIN:VEVENT
DTSTART;TZID=America/Detroit:20200410T100000
DTEND;TZID=America/Detroit:20200410T120000
DTSTAMP:20260420T024710
CREATED:20200124T191049Z
LAST-MODIFIED:20200124T191049Z
UID:4977-1586512800-1586520000@region2north.com
SUMMARY:Regional Leadership Call
DESCRIPTION:Call for members of the statewide Regional Leadership groups
URL:https://region2north.com/event/regional-leadership-call-4/
END:VEVENT
BEGIN:VEVENT
DTSTART;TZID=America/Detroit:20200411T100000
DTEND;TZID=America/Detroit:20200411T120000
DTSTAMP:20260420T024710
CREATED:20200311T111135Z
LAST-MODIFIED:20200311T111135Z
UID:5098-1586599200-1586606400@region2north.com
SUMMARY:American Red Cross Volunteer Meeting
DESCRIPTION:ALL Volunteer meetings at the American Red Cross held on the second Saturday of each month from 10am-12pm. Lunch is provided.
URL:https://region2north.com/event/american-red-cross-volunteer-meeting/
LOCATION:American Red Cross Office\, 7800 Outer Drive\, Detroit\, MI\, 48235
END:VEVENT
BEGIN:VEVENT
DTSTART;TZID=America/Detroit:20200414T140000
DTEND;TZID=America/Detroit:20200414T141500
DTSTAMP:20260420T024710
CREATED:20200124T191156Z
LAST-MODIFIED:20200124T191156Z
UID:4979-1586872800-1586873700@region2north.com
SUMMARY:R2N Education Committee meeting
DESCRIPTION:Meeting for members of the R2N Education Committee
URL:https://region2north.com/event/r2n-education-committee-meeting-30/
END:VEVENT
BEGIN:VEVENT
DTSTART;TZID=America/Detroit:20200415T083000
DTEND;TZID=America/Detroit:20200415T100000
DTSTAMP:20260420T024710
CREATED:20191219T133334Z
LAST-MODIFIED:20191219T133334Z
UID:4789-1586939400-1586944800@region2north.com
SUMMARY:Oakland County Hospital Partnership Meeting
DESCRIPTION:Meeting for hospitals in Oakland County.  Agenda sent out by Oakland County Public Health.
URL:https://region2north.com/event/oakland-county-hospital-partnership-meeting-6/
END:VEVENT
BEGIN:VEVENT
DTSTART;TZID=America/Detroit:20200422T103000
DTEND;TZID=America/Detroit:20200422T110000
DTSTAMP:20260420T024710
CREATED:20200422T101011Z
LAST-MODIFIED:20200422T101011Z
UID:5235-1587551400-1587553200@region2north.com
SUMMARY:R2S and R2N Hospital Call
DESCRIPTION:For Hospitals in R2S and R2N \n1-888-346-3950 \nAC 64034700
URL:https://region2north.com/event/r2s-and-r2n-hospital-call/
END:VEVENT
BEGIN:VEVENT
DTSTART;TZID=America/Detroit:20200423T093000
DTEND;TZID=America/Detroit:20200423T103000
DTSTAMP:20260420T024710
CREATED:20200422T100745Z
LAST-MODIFIED:20200422T100745Z
UID:5233-1587634200-1587637800@region2north.com
SUMMARY:R2N Long Term Care and Home Health and Hospice Phone Meeting
DESCRIPTION:Meeting notice sent out on MIHAN alert.
URL:https://region2north.com/event/r2n-long-term-care-and-home-health-and-hospice-phone-meeting/
END:VEVENT
BEGIN:VEVENT
DTSTART;TZID=America/Detroit:20200423T100000
DTEND;TZID=America/Detroit:20200423T113000
DTSTAMP:20260420T024710
CREATED:20200124T191523Z
LAST-MODIFIED:20200124T191523Z
UID:4985-1587636000-1587641400@region2north.com
SUMMARY:MI-MORT Command Staff meeting
DESCRIPTION:Meeting for members of the MI-MORT command staff.
URL:https://region2north.com/event/mi-mort-command-staff-meeting-8/
END:VEVENT
BEGIN:VEVENT
DTSTART;TZID=America/Detroit:20200424T103000
DTEND;TZID=America/Detroit:20200424T110000
DTSTAMP:20260420T024710
CREATED:20200422T101107Z
LAST-MODIFIED:20200422T101107Z
UID:5237-1587724200-1587726000@region2north.com
SUMMARY:R2S and R2N Hospital Phone Call
DESCRIPTION:For Hospitals in R2S and R2N \n1-888-346-3950 \nAC 64034700
URL:https://region2north.com/event/r2s-and-r2n-hospital-phone-call/
END:VEVENT
BEGIN:VEVENT
DTSTART;TZID=America/Detroit:20200430T093000
DTEND;TZID=America/Detroit:20200430T103000
DTSTAMP:20260420T024710
CREATED:20200429T112311Z
LAST-MODIFIED:20200429T112311Z
UID:5239-1588239000-1588242600@region2north.com
SUMMARY:R2N Long Term Care Weekly Meeting
DESCRIPTION:MIHAN Alert going out on meeting details.  If you do not get it by Thursday morning and want to attend the call\, please call the R2N office at 248-759-4748 for details.
URL:https://region2north.com/event/r2n-long-term-care-weekly-meeting/
END:VEVENT
END:VCALENDAR