BEGIN:VCALENDAR
VERSION:2.0
PRODID:-//Region 2 North - ECPv6.15.20//NONSGML v1.0//EN
CALSCALE:GREGORIAN
METHOD:PUBLISH
X-WR-CALNAME:Region 2 North
X-ORIGINAL-URL:https://region2north.com
X-WR-CALDESC:Events for Region 2 North
REFRESH-INTERVAL;VALUE=DURATION:PT1H
X-Robots-Tag:noindex
X-PUBLISHED-TTL:PT1H
BEGIN:VTIMEZONE
TZID:America/Detroit
BEGIN:DAYLIGHT
TZOFFSETFROM:-0500
TZOFFSETTO:-0400
TZNAME:EDT
DTSTART:20220313T070000
END:DAYLIGHT
BEGIN:STANDARD
TZOFFSETFROM:-0400
TZOFFSETTO:-0500
TZNAME:EST
DTSTART:20221106T060000
END:STANDARD
BEGIN:DAYLIGHT
TZOFFSETFROM:-0500
TZOFFSETTO:-0400
TZNAME:EDT
DTSTART:20230312T070000
END:DAYLIGHT
BEGIN:STANDARD
TZOFFSETFROM:-0400
TZOFFSETTO:-0500
TZNAME:EST
DTSTART:20231105T060000
END:STANDARD
BEGIN:DAYLIGHT
TZOFFSETFROM:-0500
TZOFFSETTO:-0400
TZNAME:EDT
DTSTART:20240310T070000
END:DAYLIGHT
BEGIN:STANDARD
TZOFFSETFROM:-0400
TZOFFSETTO:-0500
TZNAME:EST
DTSTART:20241103T060000
END:STANDARD
END:VTIMEZONE
BEGIN:VEVENT
DTSTART;TZID=America/Detroit:20230614T083000
DTEND;TZID=America/Detroit:20230614T090000
DTSTAMP:20260422T060139
CREATED:20230518T102909Z
LAST-MODIFIED:20230518T102909Z
UID:7636-1686731400-1686733200@region2north.com
SUMMARY:R2N Operational Planning Committee Meeting
DESCRIPTION:Meeting for members of the R2N Operational Planning Committee
URL:https://region2north.com/event/r2n-operational-planning-committee-meeting-19/
LOCATION:Sterling Heights Fire Department\, 41625 Ryan Road\, Sterling Heights\, Michigan\, 48314
END:VEVENT
BEGIN:VEVENT
DTSTART;TZID=America/Detroit:20230614T093000
DTEND;TZID=America/Detroit:20230614T110000
DTSTAMP:20260422T060139
CREATED:20230518T103042Z
LAST-MODIFIED:20230518T103042Z
UID:7638-1686735000-1686740400@region2north.com
SUMMARY:R2N Advisory / Planning Board Meeting
DESCRIPTION:Meeting for members of\, and participants in\, the R2N Advisory / Planning Board
URL:https://region2north.com/event/r2n-advisory-planning-board-meeting-31/
LOCATION:Sterling Heights Fire Department\, 41625 Ryan Road\, Sterling Heights\, Michigan\, 48314
END:VEVENT
BEGIN:VEVENT
DTSTART;TZID=America/Detroit:20230614T143000
DTEND;TZID=America/Detroit:20230614T153000
DTSTAMP:20260422T060139
CREATED:20230612T161752Z
LAST-MODIFIED:20230612T161752Z
UID:7644-1686753000-1686756600@region2north.com
SUMMARY:EMResource Hospital Office Hours
DESCRIPTION:Reminder EMResource Hospital Office Hours are Wednesday\, June 14\, 2023\, from 2:30 PM to 3:30 PM via Teams Meeting. \n\nJoin Microsoft Teams Meeting \n+1 248-509-0316   United States\, Pontiac (Toll) \nConference ID: 515 330 088# \n\nSend questions ahead of time to the EMResource Data Team at MDHHS-CHECC-EMResource@michigan.gov.
URL:https://region2north.com/event/emresource-hospital-office-hours-6/
END:VEVENT
END:VCALENDAR