BEGIN:VCALENDAR
VERSION:2.0
PRODID:-//Region 2 North - ECPv6.15.20//NONSGML v1.0//EN
CALSCALE:GREGORIAN
METHOD:PUBLISH
X-WR-CALNAME:Region 2 North
X-ORIGINAL-URL:https://region2north.com
X-WR-CALDESC:Events for Region 2 North
REFRESH-INTERVAL;VALUE=DURATION:PT1H
X-Robots-Tag:noindex
X-PUBLISHED-TTL:PT1H
BEGIN:VTIMEZONE
TZID:America/Detroit
BEGIN:DAYLIGHT
TZOFFSETFROM:-0500
TZOFFSETTO:-0400
TZNAME:EDT
DTSTART:20220313T070000
END:DAYLIGHT
BEGIN:STANDARD
TZOFFSETFROM:-0400
TZOFFSETTO:-0500
TZNAME:EST
DTSTART:20221106T060000
END:STANDARD
BEGIN:DAYLIGHT
TZOFFSETFROM:-0500
TZOFFSETTO:-0400
TZNAME:EDT
DTSTART:20230312T070000
END:DAYLIGHT
BEGIN:STANDARD
TZOFFSETFROM:-0400
TZOFFSETTO:-0500
TZNAME:EST
DTSTART:20231105T060000
END:STANDARD
BEGIN:DAYLIGHT
TZOFFSETFROM:-0500
TZOFFSETTO:-0400
TZNAME:EDT
DTSTART:20240310T070000
END:DAYLIGHT
BEGIN:STANDARD
TZOFFSETFROM:-0400
TZOFFSETTO:-0500
TZNAME:EST
DTSTART:20241103T060000
END:STANDARD
END:VTIMEZONE
BEGIN:VEVENT
DTSTART;TZID=America/Detroit:20230516T120000
DTEND;TZID=America/Detroit:20230516T130000
DTSTAMP:20260421T222320
CREATED:20221221T132526Z
LAST-MODIFIED:20221221T132526Z
UID:7471-1684238400-1684242000@region2north.com
SUMMARY:Back to the Basics Healthcare Emergency Manager Training
DESCRIPTION:See the attached flyer for the back to the basics webinar training on the Overview of Crisis Standards of Care \nBack to the Basics Flyer
URL:https://region2north.com/event/back-to-the-basics-healthcare-emergency-manager-training-4/
END:VEVENT
BEGIN:VEVENT
DTSTART;TZID=America/Detroit:20230516T150000
DTEND;TZID=America/Detroit:20230516T163000
DTSTAMP:20260421T222320
CREATED:20230131T134438Z
LAST-MODIFIED:20230502T124223Z
UID:7524-1684249200-1684254600@region2north.com
SUMMARY:Medical Supply Chain Virtual Series
DESCRIPTION:Supply Chain Webinar — May 16\, 2023\nThe next Supply Chain webinar is scheduled for May 16\, 2023\, from 3:00 p.m. to 4:30 p.m. The session will focus on pharmaceuticals (“Drug Shortages-Managing Supply Chain Challenges” and Long-Term Care (“SNF: Supply Chain”). Future topics include EMS\, Food and Nutrition in the hospital\, an independent hospital perspective and more. Please sign up for all or part of the series here: https://www.train.org/main/course/1108310/compilation.  \nMedical Supply Chain Virtual Series (Gould) 011022 (1)
URL:https://region2north.com/event/medical-supply-chain-virtual-series-3/
END:VEVENT
END:VCALENDAR