BEGIN:VCALENDAR
VERSION:2.0
PRODID:-//Region 2 North - ECPv6.15.20//NONSGML v1.0//EN
CALSCALE:GREGORIAN
METHOD:PUBLISH
X-WR-CALNAME:Region 2 North
X-ORIGINAL-URL:https://region2north.com
X-WR-CALDESC:Events for Region 2 North
REFRESH-INTERVAL;VALUE=DURATION:PT1H
X-Robots-Tag:noindex
X-PUBLISHED-TTL:PT1H
BEGIN:VTIMEZONE
TZID:America/Detroit
BEGIN:DAYLIGHT
TZOFFSETFROM:-0500
TZOFFSETTO:-0400
TZNAME:EDT
DTSTART:20220313T070000
END:DAYLIGHT
BEGIN:STANDARD
TZOFFSETFROM:-0400
TZOFFSETTO:-0500
TZNAME:EST
DTSTART:20221106T060000
END:STANDARD
BEGIN:DAYLIGHT
TZOFFSETFROM:-0500
TZOFFSETTO:-0400
TZNAME:EDT
DTSTART:20230312T070000
END:DAYLIGHT
BEGIN:STANDARD
TZOFFSETFROM:-0400
TZOFFSETTO:-0500
TZNAME:EST
DTSTART:20231105T060000
END:STANDARD
BEGIN:DAYLIGHT
TZOFFSETFROM:-0500
TZOFFSETTO:-0400
TZNAME:EDT
DTSTART:20240310T070000
END:DAYLIGHT
BEGIN:STANDARD
TZOFFSETFROM:-0400
TZOFFSETTO:-0500
TZNAME:EST
DTSTART:20241103T060000
END:STANDARD
END:VTIMEZONE
BEGIN:VEVENT
DTSTART;TZID=America/Detroit:20230321T120000
DTEND;TZID=America/Detroit:20230321T130000
DTSTAMP:20260421T150935
CREATED:20221221T132234Z
LAST-MODIFIED:20221221T132234Z
UID:7467-1679400000-1679403600@region2north.com
SUMMARY:Back to the Basics Healthcare Emergency Manager Training
DESCRIPTION:See the attached flyer on the back to the basics of Exercises training \nBack to the Basics Flyer
URL:https://region2north.com/event/back-to-the-basics-healthcare-emergency-manager-training-2/
END:VEVENT
BEGIN:VEVENT
DTSTART;TZID=America/Detroit:20230321T150000
DTEND;TZID=America/Detroit:20230321T163000
DTSTAMP:20260421T150935
CREATED:20230315T114156Z
LAST-MODIFIED:20230315T114156Z
UID:7566-1679410800-1679416200@region2north.com
SUMMARY:Medical Supply Chain Virtual Series
DESCRIPTION:Webinar on medical supply chain \nMedical Supply Chain Virtual Series (Gould) 011022 (1)
URL:https://region2north.com/event/medical-supply-chain-virtual-series-7/
END:VEVENT
END:VCALENDAR