BEGIN:VCALENDAR
VERSION:2.0
PRODID:-//Region 2 North - ECPv6.15.20//NONSGML v1.0//EN
CALSCALE:GREGORIAN
METHOD:PUBLISH
X-ORIGINAL-URL:https://region2north.com
X-WR-CALDESC:Events for Region 2 North
REFRESH-INTERVAL;VALUE=DURATION:PT1H
X-Robots-Tag:noindex
X-PUBLISHED-TTL:PT1H
BEGIN:VTIMEZONE
TZID:America/Detroit
BEGIN:DAYLIGHT
TZOFFSETFROM:-0500
TZOFFSETTO:-0400
TZNAME:EDT
DTSTART:20220313T070000
END:DAYLIGHT
BEGIN:STANDARD
TZOFFSETFROM:-0400
TZOFFSETTO:-0500
TZNAME:EST
DTSTART:20221106T060000
END:STANDARD
BEGIN:DAYLIGHT
TZOFFSETFROM:-0500
TZOFFSETTO:-0400
TZNAME:EDT
DTSTART:20230312T070000
END:DAYLIGHT
BEGIN:STANDARD
TZOFFSETFROM:-0400
TZOFFSETTO:-0500
TZNAME:EST
DTSTART:20231105T060000
END:STANDARD
BEGIN:DAYLIGHT
TZOFFSETFROM:-0500
TZOFFSETTO:-0400
TZNAME:EDT
DTSTART:20240310T070000
END:DAYLIGHT
BEGIN:STANDARD
TZOFFSETFROM:-0400
TZOFFSETTO:-0500
TZNAME:EST
DTSTART:20241103T060000
END:STANDARD
END:VTIMEZONE
BEGIN:VEVENT
DTSTART;TZID=America/Detroit:20230301T090000
DTEND;TZID=America/Detroit:20230301T140000
DTSTAMP:20260421T132757
CREATED:20230209T140053Z
LAST-MODIFIED:20230209T140053Z
UID:7536-1677661200-1677679200@region2north.com
SUMMARY:Basic Disaster Life Support Class - R2N
DESCRIPTION:The Basic Disaster Life Support™ (BDLS®) course is a competency-based\, awareness-level course that prepares health professionals for the management of injuries and ill-nesses caused by disasters and public health emergencies. This includes the PRE-DISASTER Paradigm™ and DISASTER Paradigm™. The primary focus is an “all-hazards” approach. Measures to ensure and enhance health workforce readiness are emphasized throughout the course.  \nThe BDLS course is designed to engage participants through interactive scenarios and group discussion. The goal is to teach a common lexicon\, vocabulary\, and knowledge base. Knowledge gained in the course can then be rein-forced and expanded through application in the Advanced Disaster Life Support™ (ADLS®) course.  \nThe BDLS course is aimed at a broad range of audiences that share a likelihood of providing clinical care and assis-tance to casualties during a disaster or public health emergency.  \nSee attached flyer for registration information: \nBDLS flyer
URL:https://region2north.com/event/basic-disaster-life-support-class-r2n/
LOCATION:Macomb County Medical Control Authority
END:VEVENT
END:VCALENDAR