BEGIN:VCALENDAR
VERSION:2.0
PRODID:-//Region 2 North - ECPv6.15.20//NONSGML v1.0//EN
CALSCALE:GREGORIAN
METHOD:PUBLISH
X-WR-CALNAME:Region 2 North
X-ORIGINAL-URL:https://region2north.com
X-WR-CALDESC:Events for Region 2 North
REFRESH-INTERVAL;VALUE=DURATION:PT1H
X-Robots-Tag:noindex
X-PUBLISHED-TTL:PT1H
BEGIN:VTIMEZONE
TZID:America/Detroit
BEGIN:DAYLIGHT
TZOFFSETFROM:-0500
TZOFFSETTO:-0400
TZNAME:EDT
DTSTART:20190310T070000
END:DAYLIGHT
BEGIN:STANDARD
TZOFFSETFROM:-0400
TZOFFSETTO:-0500
TZNAME:EST
DTSTART:20191103T060000
END:STANDARD
BEGIN:DAYLIGHT
TZOFFSETFROM:-0500
TZOFFSETTO:-0400
TZNAME:EDT
DTSTART:20200308T070000
END:DAYLIGHT
BEGIN:STANDARD
TZOFFSETFROM:-0400
TZOFFSETTO:-0500
TZNAME:EST
DTSTART:20201101T060000
END:STANDARD
BEGIN:DAYLIGHT
TZOFFSETFROM:-0500
TZOFFSETTO:-0400
TZNAME:EDT
DTSTART:20210314T070000
END:DAYLIGHT
BEGIN:STANDARD
TZOFFSETFROM:-0400
TZOFFSETTO:-0500
TZNAME:EST
DTSTART:20211107T060000
END:STANDARD
END:VTIMEZONE
BEGIN:VEVENT
DTSTART;TZID=America/Detroit:20201021T150000
DTEND;TZID=America/Detroit:20201021T160000
DTSTAMP:20260421T043313
CREATED:20201021T153537Z
LAST-MODIFIED:20201021T153537Z
UID:5581-1603292400-1603296000@region2north.com
SUMMARY:LTC EMResource Training Call
DESCRIPTION:You are invited to a Zoom technical assistance webinar.   When:   This is a recurring webinar Session 1:  October 21\, 2020\, 3:00 PM – 4:00 PM Session 2:  October 22\, 2020\, 2:00 PM – 3:00 PM                 Topic:    SNF COVID-19 EMResource Reporting Updates     In an effort to support skilled nursing facilities in meeting pending policy change which will impact COVID-19 data reporting requirements\, The Michigan Department of Health and Human Resources (MDHHS) is hosting two COVID-19 Reporting Training technical assistance sessions. Each session will cover identical material and provide time for open Q&A regarding SN reporting to EMResource. We encourage staff responsible for COVID-19 reporting from each facility to attend one or both sessions (attendance capacity may be limited).   We anticipate a large audience in attendance\, please plan to join the zoom call 10-15 minutes before scheduled start. \n*****************************************  Please click the link below to join the webinar: https://msu.zoom.us/j/96144632532 Passcode: 176558 \nOr iPhone one-tap :      US: +12532158782\,\,96144632532#  or +13462487799\,\,96144632532#   Or Telephone:     Dial(for higher quality\, dial a number based on your current location):         US: +1 253 215 8782  or +1 346 248 7799  or +1 669 900 6833  or +1 301 715 8592  or +1 312 626 6799  or +1 646 876 9923   Webinar ID: 961 4463 2532     International numbers available: https://msu.zoom.us/u/abv30dNHJe   Or an H.323/SIP room system:     H.323:      162.255.37.11 (US West)     162.255.36.11 (US East)     115.114.131.7 (India Mumbai)     115.114.115.7 (India Hyderabad)     213.19.144.110 (Amsterdam Netherlands)     213.244.140.110 (Germany)     103.122.166.55 (Australia)     149.137.40.110 (Singapore)     64.211.144.160 (Brazil)     69.174.57.160 (Canada)     207.226.132.110 (Japan)     Meeting ID: 961 4463 2532     Passcode: 176558     SIP: 96144632532@zoomcrc.com     Passcode: 176558
URL:https://region2north.com/event/ltc-emresource-training-call/
END:VEVENT
END:VCALENDAR