BEGIN:VCALENDAR
VERSION:2.0
PRODID:-//Region 2 North - ECPv6.15.20//NONSGML v1.0//EN
CALSCALE:GREGORIAN
METHOD:PUBLISH
X-WR-CALNAME:Region 2 North
X-ORIGINAL-URL:https://region2north.com
X-WR-CALDESC:Events for Region 2 North
REFRESH-INTERVAL;VALUE=DURATION:PT1H
X-Robots-Tag:noindex
X-PUBLISHED-TTL:PT1H
BEGIN:VTIMEZONE
TZID:America/Detroit
BEGIN:DAYLIGHT
TZOFFSETFROM:-0500
TZOFFSETTO:-0400
TZNAME:EDT
DTSTART:20190310T070000
END:DAYLIGHT
BEGIN:STANDARD
TZOFFSETFROM:-0400
TZOFFSETTO:-0500
TZNAME:EST
DTSTART:20191103T060000
END:STANDARD
BEGIN:DAYLIGHT
TZOFFSETFROM:-0500
TZOFFSETTO:-0400
TZNAME:EDT
DTSTART:20200308T070000
END:DAYLIGHT
BEGIN:STANDARD
TZOFFSETFROM:-0400
TZOFFSETTO:-0500
TZNAME:EST
DTSTART:20201101T060000
END:STANDARD
BEGIN:DAYLIGHT
TZOFFSETFROM:-0500
TZOFFSETTO:-0400
TZNAME:EDT
DTSTART:20210314T070000
END:DAYLIGHT
BEGIN:STANDARD
TZOFFSETFROM:-0400
TZOFFSETTO:-0500
TZNAME:EST
DTSTART:20211107T060000
END:STANDARD
END:VTIMEZONE
BEGIN:VEVENT
DTSTART;TZID=America/Detroit:20200812T073000
DTEND;TZID=America/Detroit:20200812T083000
DTSTAMP:20260420T204113
CREATED:20200805T114842Z
LAST-MODIFIED:20200805T114842Z
UID:5448-1597217400-1597221000@region2north.com
SUMMARY:State HCC Call
DESCRIPTION:Call with all regions and the State
URL:https://region2north.com/event/state-hcc-call/
LOCATION:Teams Meeting
END:VEVENT
BEGIN:VEVENT
DTSTART;TZID=America/Detroit:20200812T083000
DTEND;TZID=America/Detroit:20200812T090000
DTSTAMP:20260420T204113
CREATED:20200715T140948Z
LAST-MODIFIED:20200715T140948Z
UID:5408-1597221000-1597222800@region2north.com
SUMMARY:R2N Operational Planning Committee Meeting
DESCRIPTION:Meeting for members of the R2N Operational Planning Committee
URL:https://region2north.com/event/r2n-operational-planning-committee-meeting-13/
LOCATION:Zoom meeting
END:VEVENT
BEGIN:VEVENT
DTSTART;TZID=America/Detroit:20200812T093000
DTEND;TZID=America/Detroit:20200812T110000
DTSTAMP:20260420T204113
CREATED:20200715T141038Z
LAST-MODIFIED:20200715T141038Z
UID:5410-1597224600-1597230000@region2north.com
SUMMARY:R2N Advisory / Planning Board Meeting
DESCRIPTION:Meeting for members of the R2N Advisory and Planning Board
URL:https://region2north.com/event/r2n-advisory-planning-board-meeting-15/
LOCATION:Zoom meeting
END:VEVENT
END:VCALENDAR