BEGIN:VCALENDAR
VERSION:2.0
PRODID:-//Region 2 North - ECPv6.15.20//NONSGML v1.0//EN
CALSCALE:GREGORIAN
METHOD:PUBLISH
X-ORIGINAL-URL:https://region2north.com
X-WR-CALDESC:Events for Region 2 North
REFRESH-INTERVAL;VALUE=DURATION:PT1H
X-Robots-Tag:noindex
X-PUBLISHED-TTL:PT1H
BEGIN:VTIMEZONE
TZID:America/Detroit
BEGIN:DAYLIGHT
TZOFFSETFROM:-0500
TZOFFSETTO:-0400
TZNAME:EDT
DTSTART:20190310T070000
END:DAYLIGHT
BEGIN:STANDARD
TZOFFSETFROM:-0400
TZOFFSETTO:-0500
TZNAME:EST
DTSTART:20191103T060000
END:STANDARD
BEGIN:DAYLIGHT
TZOFFSETFROM:-0500
TZOFFSETTO:-0400
TZNAME:EDT
DTSTART:20200308T070000
END:DAYLIGHT
BEGIN:STANDARD
TZOFFSETFROM:-0400
TZOFFSETTO:-0500
TZNAME:EST
DTSTART:20201101T060000
END:STANDARD
BEGIN:DAYLIGHT
TZOFFSETFROM:-0500
TZOFFSETTO:-0400
TZNAME:EDT
DTSTART:20210314T070000
END:DAYLIGHT
BEGIN:STANDARD
TZOFFSETFROM:-0400
TZOFFSETTO:-0500
TZNAME:EST
DTSTART:20211107T060000
END:STANDARD
END:VTIMEZONE
BEGIN:VEVENT
DTSTART;TZID=America/Detroit:20200723T100000
DTEND;TZID=America/Detroit:20200723T120000
DTSTAMP:20260420T095823
CREATED:20200527T121553Z
LAST-MODIFIED:20200527T121553Z
UID:5269-1595498400-1595505600@region2north.com
SUMMARY:LTC\, Home Health & Hospice Meeting
DESCRIPTION:Long-Term Care\, Home Health & Hospice Meeting\n****Please note the meeting change**** \nWe will now be using Zoom.  Be sure to install Zoom if needed.  \nTopic: R2N Long Term Care and Home Health & Hospice Meeting\nTime: Jul 23\, 2020 10:00 AM America/Detroit \nJoin Zoom Meeting\nhttps://zoom.us/j/2312613375?pwd=c2tIZnZMVThoS3pkSjV4VlVRRHZJUT09 \nMeeting ID: c\nPasscode: attitude\nOne tap mobile\n+525541614288\,\,2312613375#\,\,\,\,\,\,0#\,\,05006472# Mexico\n+525568269800\,\,2312613375#\,\,\,\,\,\,0#\,\,05006472# Mexico \nDial by your location\n+52 554 161 4288 Mexico\n+52 556 826 9800 Mexico\n+52 558 659 6001 Mexico\n+52 229 910 0061 Mexico\nMeeting ID: 231 261 3375\nPasscode: 05006472\nFind your local number: https://zoom.us/u/adW8U0jHrT
URL:https://region2north.com/event/ltc-home-health-hospice-meeting/
LOCATION:Zoom meeting
END:VEVENT
END:VCALENDAR