BEGIN:VCALENDAR
VERSION:2.0
PRODID:-//Region 2 North - ECPv6.15.20//NONSGML v1.0//EN
CALSCALE:GREGORIAN
METHOD:PUBLISH
X-WR-CALNAME:Region 2 North
X-ORIGINAL-URL:https://region2north.com
X-WR-CALDESC:Events for Region 2 North
REFRESH-INTERVAL;VALUE=DURATION:PT1H
X-Robots-Tag:noindex
X-PUBLISHED-TTL:PT1H
BEGIN:VTIMEZONE
TZID:America/Detroit
BEGIN:DAYLIGHT
TZOFFSETFROM:-0500
TZOFFSETTO:-0400
TZNAME:EDT
DTSTART:20190310T070000
END:DAYLIGHT
BEGIN:STANDARD
TZOFFSETFROM:-0400
TZOFFSETTO:-0500
TZNAME:EST
DTSTART:20191103T060000
END:STANDARD
BEGIN:DAYLIGHT
TZOFFSETFROM:-0500
TZOFFSETTO:-0400
TZNAME:EDT
DTSTART:20200308T070000
END:DAYLIGHT
BEGIN:STANDARD
TZOFFSETFROM:-0400
TZOFFSETTO:-0500
TZNAME:EST
DTSTART:20201101T060000
END:STANDARD
BEGIN:DAYLIGHT
TZOFFSETFROM:-0500
TZOFFSETTO:-0400
TZNAME:EDT
DTSTART:20210314T070000
END:DAYLIGHT
BEGIN:STANDARD
TZOFFSETFROM:-0400
TZOFFSETTO:-0500
TZNAME:EST
DTSTART:20211107T060000
END:STANDARD
END:VTIMEZONE
BEGIN:VEVENT
DTSTART;TZID=America/Detroit:20200604T090000
DTEND;TZID=America/Detroit:20200604T110000
DTSTAMP:20260420T081141
CREATED:20200527T122458Z
LAST-MODIFIED:20200527T122458Z
UID:5290-1591261200-1591268400@region2north.com
SUMMARY:R2N Radio and MIHAN Communications Test
DESCRIPTION:R2N will resume the monthly 800 MHz radio and MIHAN communications exercise.  EMResource is updated daily so it will not be part of the exercise.
URL:https://region2north.com/event/r2n-radio-and-mihan-communications-test/
END:VEVENT
BEGIN:VEVENT
DTSTART;TZID=America/Detroit:20200604T100000
DTEND;TZID=America/Detroit:20200604T113000
DTSTAMP:20260420T081141
CREATED:20200527T125724Z
LAST-MODIFIED:20200527T125724Z
UID:5302-1591264800-1591270200@region2north.com
SUMMARY:MI-MORT Command Staff Meeting
DESCRIPTION:Phone call for members of the MI-MORT Command Staff
URL:https://region2north.com/event/mi-mort-command-staff-meeting-9/
END:VEVENT
END:VCALENDAR